BEGIN:VCALENDAR
VERSION:2.0
PRODID:-//wp-events-plugin.com//7.2.3.1//EN
TZID:Europe/Berlin
X-WR-TIMEZONE:Europe/Berlin
BEGIN:VEVENT
UID:244@feuerwehr-rheinlandpfalz.de
DTSTART;TZID=Europe/Berlin:20260128T180000
DTEND;TZID=Europe/Berlin:20260128T210000
DTSTAMP:20251016T130322Z
URL:https://feuerwehr-rheinlandpfalz.de/events/sitzung-fachbereich-bevoelk
 erungsschutz-4/
SUMMARY:Sitzung Fachbereich Bevölkerungsschutz
DESCRIPTION:
CATEGORIES:Öffentlich
LOCATION:Landesgeschäftsstelle\, Lindenallee 41-43\, Koblenz\, 56077\, Deu
 tschland
X-APPLE-STRUCTURED-LOCATION;VALUE=URI;X-ADDRESS=Lindenallee 41-43\, Koblenz
 \, 56077\, Deutschland;X-APPLE-RADIUS=100;X-TITLE=Landesgeschäftsstelle:g
 eo:0,0
END:VEVENT
BEGIN:VTIMEZONE
TZID:Europe/Berlin
X-LIC-LOCATION:Europe/Berlin
BEGIN:STANDARD
DTSTART:20251026T020000
TZOFFSETFROM:+0200
TZOFFSETTO:+0100
TZNAME:CET
END:STANDARD
END:VTIMEZONE
END:VCALENDAR