BEGIN:VCALENDAR
VERSION:2.0
PRODID:-//wp-events-plugin.com//7.2.3.1//EN
TZID:Europe/Berlin
X-WR-TIMEZONE:Europe/Berlin
BEGIN:VEVENT
UID:146@feuerwehr-rheinlandpfalz.de
DTSTART:20240914T084500Z
DTEND:20240914T104500Z
DTSTAMP:20240909T070851Z
URL:https://feuerwehr-rheinlandpfalz.de/events/safety-mobility/
SUMMARY:Safety & Mobility (Samstag\, 14.09.2024 - 8:45 Uhr)
DESCRIPTION:\nAm Wochenende vom 14. und 15. September 2024 findet das Verke
 hrssicherheitsevent „Safety &amp\; Mobility“ auf dem Gelände der Feue
 rwehr- und Katastrophenschutzakademie (LFKA) in Koblenz statt.\n\nDie Teil
 nehmenden können sich für eines von fünf Zeitfenstern anmelden und trai
 nieren dann an verschiedenen Stationen folgende Module:\n- Sicherheitsabst
 and und Dooring-Unfälle bei Radfahrenden\n- Risikosituationen und Perspek
 tivwechsel Radfahrenden &amp\; Autofahrende\n- E-Scooter Parcours und tote
 r Winkel von Transportern\n- Risiko von Cannabis und Alkohol im Straßenve
 rkehr\n- Gefahrenwahrnehmung und Sensibilisierung für Fußgänger
CATEGORIES:Öffentlich
LOCATION:Landesfeuerwehrverband Rheinland-Pfalz\, Lindenallee 41 - 43\, Kob
 lenz\, 56077\, Deutschland
X-APPLE-STRUCTURED-LOCATION;VALUE=URI;X-ADDRESS=Lindenallee 41 - 43\, Koble
 nz\, 56077\, Deutschland;X-APPLE-RADIUS=100;X-TITLE=Landesfeuerwehrverband
  Rheinland-Pfalz:geo:0,0
END:VEVENT
END:VCALENDAR