BEGIN:VCALENDAR
VERSION:2.0
PRODID:-//wp-events-plugin.com//7.2.3.1//EN
TZID:Europe/Berlin
X-WR-TIMEZONE:Europe/Berlin
BEGIN:VEVENT
UID:149@feuerwehr-rheinlandpfalz.de
DTSTART:20240915T084500Z
DTEND:20240915T104500Z
DTSTAMP:20240909T081127Z
URL:https://feuerwehr-rheinlandpfalz.de/events/safety-mobility-sonntag-15-
 09-2024-845-uhr/
SUMMARY:Safety & Mobility (Sonntag\, 15.09.2024 - 8:45 Uhr)
DESCRIPTION:\n\nAm Wochenende vom 14. und 15. September 2024 findet das Ver
 kehrssicherheitsevent „Safety &amp\; Mobility“ auf dem Gelände der Fe
 uerwehr- und Katastrophenschutzakademie (LFKA) in Koblenz statt. Die Teiln
 ehmenden können sich für eines von fünf Zeitfenstern anmelden und train
 ieren dann an verschiedenen Stationen folgende Module:\n\n- Sicherheitsabs
 tand und Dooring-Unfälle bei Radfahrenden\n\n- Risikosituationen und Pers
 pektivwechsel Radfahrenden &amp\; Autofahrende\n\n- E-Scooter Parcours und
  toter Winkel von Transportern - Risiko von Cannabis und Alkohol im Straß
 enverkehr\n\n- Gefahrenwahrnehmung und Sensibilisierung für Fußgänger
CATEGORIES:Öffentlich
LOCATION:Landesfeuerwehrverband Rheinland-Pfalz\, Lindenallee 41 - 43\, Kob
 lenz\, 56077\, Deutschland
X-APPLE-STRUCTURED-LOCATION;VALUE=URI;X-ADDRESS=Lindenallee 41 - 43\, Koble
 nz\, 56077\, Deutschland;X-APPLE-RADIUS=100;X-TITLE=Landesfeuerwehrverband
  Rheinland-Pfalz:geo:0,0
END:VEVENT
END:VCALENDAR