BEGIN:VCALENDAR
VERSION:2.0
PRODID:-//wp-events-plugin.com//7.2.3.1//EN
TZID:Europe/Berlin
X-WR-TIMEZONE:Europe/Berlin
BEGIN:VEVENT
UID:266@feuerwehr-rheinlandpfalz.de
DTSTART;TZID=Europe/Berlin:20260919T080000
DTEND;TZID=Europe/Berlin:20260919T160000
DTSTAMP:20251208T101952Z
URL:https://feuerwehr-rheinlandpfalz.de/events/landesentscheid-geschicklic
 hkeitsfahren-4/
SUMMARY:Landesentscheid Geschicklichkeitsfahren
DESCRIPTION:
CATEGORIES:FB Ausbildung
LOCATION:LGS\, Lindenallee 41 - 43\, Koblenz\, Rheinland-Pfalz\, 56077\, -\
 , Deutschland
X-APPLE-STRUCTURED-LOCATION;VALUE=URI;X-ADDRESS=Lindenallee 41 - 43\, Koble
 nz\, Rheinland-Pfalz\, 56077\, -\, Deutschland;X-APPLE-RADIUS=100;X-TITLE=
 LGS:geo:0,0
END:VEVENT
BEGIN:VTIMEZONE
TZID:Europe/Berlin
X-LIC-LOCATION:Europe/Berlin
BEGIN:DAYLIGHT
DTSTART:20260329T030000
TZOFFSETFROM:+0100
TZOFFSETTO:+0200
TZNAME:CEST
END:DAYLIGHT
END:VTIMEZONE
END:VCALENDAR