BEGIN:VCALENDAR
VERSION:2.0
PRODID:-//wp-events-plugin.com//7.2.3.1//EN
TZID:Europe/Berlin
X-WR-TIMEZONE:Europe/Berlin
BEGIN:VEVENT
UID:256@feuerwehr-rheinlandpfalz.de
DTSTART;TZID=Europe/Berlin:20260220T150000
DTEND;TZID=Europe/Berlin:20260221T150000
DTSTAMP:20260112T082804Z
URL:https://feuerwehr-rheinlandpfalz.de/events/klausur-praesidium-20-21-02
 -2026/
SUMMARY:Klausur Präsidium 20./21.02.2026
DESCRIPTION:
CATEGORIES:Präsidium
LOCATION:NH Bingen\, Museumstraße 3\, Bingen am Rhein\, 55411\, Deutschlan
 d
X-APPLE-STRUCTURED-LOCATION;VALUE=URI;X-ADDRESS=Museumstraße 3\, Bingen am
  Rhein\, 55411\, Deutschland;X-APPLE-RADIUS=100;X-TITLE=NH Bingen:geo:0,0
END:VEVENT
BEGIN:VTIMEZONE
TZID:Europe/Berlin
X-LIC-LOCATION:Europe/Berlin
BEGIN:STANDARD
DTSTART:20251026T020000
TZOFFSETFROM:+0200
TZOFFSETTO:+0100
TZNAME:CET
END:STANDARD
END:VTIMEZONE
END:VCALENDAR