BEGIN:VCALENDAR
VERSION:2.0
PRODID:-//wp-events-plugin.com//7.2.3.1//EN
TZID:Europe/Berlin
X-WR-TIMEZONE:Europe/Berlin
BEGIN:VEVENT
UID:77@feuerwehr-rheinlandpfalz.de
DTSTART:20230826T093000Z
DTEND:20230826T144500Z
DTSTAMP:20230816T065243Z
URL:https://feuerwehr-rheinlandpfalz.de/events/feuerwehren-in-rlp-konferen
 z-im-leitstellenbereich-trier-am-26-08-2023/
SUMMARY:Feuerwehren in Rheinland-Pfalz - nah und kompetent vor Ort! Erste K
 onferenz des Leitstellenbereiches Trier am 26.08.2023
DESCRIPTION:Mit der "Birkweiler Erklärung" haben wir ein gemeinsames Posit
 ionspapier herausgegeben\, welches auch eine entsprechende Anerkennung in 
 der Politik und Feuerwehrwelt erfahren hat. Zuvor gab es schon das Zukunft
 spapier\, den Wertekongress und das Strategiepapier Feuerwehr 2030. Die We
 iterführung all dessen soll in den sogenannten "Konferenzen in den Leitst
 ellenbereichen" stattfinden. Daher laden wir alle Interessierten aus den F
 euerwehren und der Politik am 26.08.2023 im Katastrophenschutzzentrum des 
 LK Bernkastel-Wittlich\, Schlossstraße 31\, 54516 Wittlich zur ersten Kon
 ferenz des Leitstellenbereiches Trier ein.\n\nDen zeitlichen Ablauf der Ve
 ranstaltung\, sowie die Inhalte der vier Workshops erfahren Sie in dem bei
 gefügten Informationsblatt: EinladunEinladung_Leitstellen-Konferenz_210x2
 97mm_AUSDRUCK(1)g_Leitstellen-Konferenz_210x297mm_3\n\nSie können sich zu
  folgenden Workshops anmelden:\n\nBlock 1 "Rahmenbedingungen - Politik und
  Kommunales"\n\nBlock 2 "Einsatz"\n\nBlock 3 "Technik/Ausrüstung/Ausbildu
 ng"\n\nBlock 4 "Verbandsarbeit"
LOCATION:Katastrophenschutzzentrum des Landkreises Bernkastel-Wittlich\, Sc
 hlossstraße 31\, Wittlich\, Rheinland-Pfalz\, 54516\, Deutschland
X-APPLE-STRUCTURED-LOCATION;VALUE=URI;X-ADDRESS=Schlossstraße 31\, Wittlic
 h\, Rheinland-Pfalz\, 54516\, Deutschland;X-APPLE-RADIUS=100;X-TITLE=Katas
 trophenschutzzentrum des Landkreises Bernkastel-Wittlich:geo:0,0
END:VEVENT
END:VCALENDAR