BEGIN:VCALENDAR
VERSION:2.0
PRODID:-//wp-events-plugin.com//7.2.3.1//EN
TZID:Europe/Berlin
X-WR-TIMEZONE:Europe/Berlin
BEGIN:VEVENT
UID:215@feuerwehr-rheinlandpfalz.de
DTSTART;TZID=Europe/Berlin:20250618T180000
DTEND;TZID=Europe/Berlin:20250618T200000
DTSTAMP:20250611T105032Z
URL:https://feuerwehr-rheinlandpfalz.de/events/ehrungsveranstaltung-18-06-
 2025/
SUMMARY:Ehrungsveranstaltung "Partner der Feuerwehr"
DESCRIPTION:
CATEGORIES:Mitgliedsverbände,Öffentlich,Präsidium
LOCATION:BOMAG GmbH\, Hellerwald \, Boppard\, Rheinland Pfalz\, 56154\, Deu
 tschland
X-APPLE-STRUCTURED-LOCATION;VALUE=URI;X-ADDRESS=Hellerwald \, Boppard\, Rhe
 inland Pfalz\, 56154\, Deutschland;X-APPLE-RADIUS=100;X-TITLE=BOMAG GmbH:g
 eo:0,0
END:VEVENT
BEGIN:VTIMEZONE
TZID:Europe/Berlin
X-LIC-LOCATION:Europe/Berlin
BEGIN:DAYLIGHT
DTSTART:20250330T030000
TZOFFSETFROM:+0100
TZOFFSETTO:+0200
TZNAME:CEST
END:DAYLIGHT
END:VTIMEZONE
END:VCALENDAR