BEGIN:VCALENDAR
VERSION:2.0
PRODID:-//wp-events-plugin.com//7.2.3.1//EN
TZID:Europe/Berlin
X-WR-TIMEZONE:Europe/Berlin
BEGIN:VEVENT
UID:189@feuerwehr-rheinlandpfalz.de
DTSTART:20251011T100000Z
DTEND:20251011T150000Z
DTSTAMP:20250902T102509Z
URL:https://feuerwehr-rheinlandpfalz.de/events/delegiertenversammlung-6/
SUMMARY:Delegiertenversammlung
DESCRIPTION:
CATEGORIES:Mitgliedsverbände
LOCATION:Kulturhalle Wallmerod\, Am Sportplatz 9\, Wallmerod\, 56414\, Deut
 schland
X-APPLE-STRUCTURED-LOCATION;VALUE=URI;X-ADDRESS=Am Sportplatz 9\, Wallmerod
 \, 56414\, Deutschland;X-APPLE-RADIUS=100;X-TITLE=Kulturhalle Wallmerod:ge
 o:0,0
END:VEVENT
END:VCALENDAR