BEGIN:VCALENDAR
VERSION:2.0
PRODID:-//wp-events-plugin.com//7.2.3.1//EN
TZID:Europe/Berlin
X-WR-TIMEZONE:Europe/Berlin
BEGIN:VEVENT
UID:196@feuerwehr-rheinlandpfalz.de
DTSTART;VALUE=DATE:20250809
DTEND;VALUE=DATE:20250810
DTSTAMP:20250203T134252Z
URL:https://feuerwehr-rheinlandpfalz.de/events/abnahme-fwla-landkreis-bern
 kastel-wittlich/
SUMMARY:Abnahme FwLA Landkreis Bernkastel-Wittlich
DESCRIPTION:
CATEGORIES:Öffentlich
LOCATION:Bruch\, -\, -\, Rheinland-Pfalz\, -\, -\, Deutschland
X-APPLE-STRUCTURED-LOCATION;VALUE=URI;X-ADDRESS=-\, -\, Rheinland-Pfalz\, -
 \, -\, Deutschland;X-APPLE-RADIUS=100;X-TITLE=Bruch:geo:0,0
END:VEVENT
END:VCALENDAR