BEGIN:VCALENDAR
VERSION:2.0
PRODID:-//wp-events-plugin.com//7.2.3.1//EN
TZID:Europe/Berlin
X-WR-TIMEZONE:Europe/Berlin
BEGIN:VEVENT
UID:238@feuerwehr-rheinlandpfalz.de
DTSTART;TZID=Europe/Berlin:20250806T183000
DTEND;TZID=Europe/Berlin:20250807T234500
DTSTAMP:20250826T060722Z
URL:https://feuerwehr-rheinlandpfalz.de/events/100-jahre-feuerwehr-gladbac
 h/
SUMMARY:100 Jahre Feuerwehr Gladbach
DESCRIPTION:Offizeller Festakt mit Ehrungen und Ansprachen findet am Samsta
 gabend den 06.September 2025 ab 18:30 Uhr in der Turn- und Festhalle Gladb
 ach statt.\n\nIm Anschluss an den Festakt gibt es Live-Musik der Partyband
  Noise. Die Halle wird zur Feier-Location\, und wir freuen uns auf einen s
 timmungsvollen Abend mit guter Musik\, Getränken und geselligem Beisammen
 sein\, Eintritt frei.\n\nAm Sonntag\, den 7. September\, geht es ab 10:30 
 Uhr weiter mit einem Frühschoppen auf dem Vorplatz des Feuerwehrhauses mi
 t der Wülfersberger Blasmusik .\n\nNeben Speisen leckeres vom Grill\, Kaf
 fee &amp\; Kuchen\, Getränken und einem Kinderprogramm u.a. mit Hüpfburg
  erwartet euch auch eine Ausstellung der Blaulichtfamilie Polizei - Rettun
 gsdienst - Feuerwehr - THW\, bei der verschiedene Organisationen Einblicke
  in ihre Arbeit geben.\n\n&nbsp\;
CATEGORIES:Öffentlich
LOCATION:Turn- und Festhalle Gladbach\, Arthur-Schopenhauer-Str. 3\, 56566 
 Gladbach\, Rheinland Pfalz\, 56599\, Kreis Neuwied\, Deutschland
X-APPLE-STRUCTURED-LOCATION;VALUE=URI;X-ADDRESS=Arthur-Schopenhauer-Str. 3\
 , 56566 Gladbach\, Rheinland Pfalz\, 56599\, Kreis Neuwied\, Deutschland;X
 -APPLE-RADIUS=100;X-TITLE=Turn- und Festhalle Gladbach:geo:0,0
END:VEVENT
BEGIN:VTIMEZONE
TZID:Europe/Berlin
X-LIC-LOCATION:Europe/Berlin
BEGIN:DAYLIGHT
DTSTART:20250330T030000
TZOFFSETFROM:+0100
TZOFFSETTO:+0200
TZNAME:CEST
END:DAYLIGHT
END:VTIMEZONE
END:VCALENDAR